BEGIN:VCALENDAR
VERSION:2.0
METHOD:PUBLISH
BEGIN:VEVENT
DTSTART:20240412T170000Z
DTEND:20240414T210000Z
LOCATION:Santa Cruz, CA 95060
TRANSP: OPAQUE
SEQUENCE:0
UID:
DTSTAMP:20260421T115743Z
SUMMARY:Carbonera Estate Sale
DESCRIPTION:Carbonera Estate Sale A Move Made SImple 
UID:1776794263
STREET-ADDRESS:See website
POSTAL-CODE:95060
LOCALITY:Santa Cruz
REGION:ABBREV=CA
COUNTRY:ABBREV=US;ABBREV=USA:United States
URL;TYPE=Event Listing:https://estatesales.org/estate-sales/ca/santa-cruz/95060/carbonera-estate-sale-2303729
PRIORITY:1
CLASS:PUBLIC
SEQUENCE:0
STATUS:CONFIRMED
TRANSP:OPAQUE
END:VEVENT
END:VCALENDAR
