BEGIN:VCALENDAR
VERSION:2.0
METHOD:PUBLISH
BEGIN:VEVENT
DTSTART:20240412T160000Z
DTEND:20240412T200000Z
LOCATION:Martinez, CA 94553
TRANSP: OPAQUE
SEQUENCE:0
UID:
DTSTAMP:20260420T062517Z
SUMMARY:Martinez Friday ONLY Estate Sale - Gym, Fine Furnishings, and Tools Galore!!
DESCRIPTION:Martinez Friday ONLY Estate Sale - Gym, Fine Furnishings, and Tools Galore!! J and C Estate Sales 
UID:1776687917
STREET-ADDRESS:See website
POSTAL-CODE:94553
LOCALITY:Martinez
REGION:ABBREV=CA
COUNTRY:ABBREV=US;ABBREV=USA:United States
URL;TYPE=Event Listing:https://estatesales.org/estate-sales/ca/martinez/94553/martinez-friday-only-estate-sale-2303035
PRIORITY:1
CLASS:PUBLIC
SEQUENCE:0
STATUS:CONFIRMED
TRANSP:OPAQUE
END:VEVENT
END:VCALENDAR
