BEGIN:VCALENDAR
VERSION:2.0
METHOD:PUBLISH
BEGIN:VEVENT
DTSTART:20240412T120000Z
DTEND:20240413T190000Z
LOCATION:Southington, CT 06489
TRANSP: OPAQUE
SEQUENCE:0
UID:
DTSTAMP:20260425T152542Z
SUMMARY:Southington Estate Sale
DESCRIPTION:Southington Estate Sale Sean Mahoney Estate Sales LLC 
UID:1777152342
STREET-ADDRESS:See website
POSTAL-CODE:06489
LOCALITY:Southington
REGION:ABBREV=CT
COUNTRY:ABBREV=US;ABBREV=USA:United States
URL;TYPE=Event Listing:https://estatesales.org/estate-sales/ct/southington/06489/southington-estate-sale-2302683
PRIORITY:1
CLASS:PUBLIC
SEQUENCE:0
STATUS:CONFIRMED
TRANSP:OPAQUE
END:VEVENT
END:VCALENDAR
