BEGIN:VCALENDAR
VERSION:2.0
METHOD:PUBLISH
BEGIN:VEVENT
DTSTART:20190412T150000Z
DTEND:20190413T190000Z
LOCATION:Crown Point, IN 46307
TRANSP: OPAQUE
SEQUENCE:0
UID:
DTSTAMP:20260419T082558Z
SUMMARY:THE CASTLE - Worldwide Antiques, Eclectic
DESCRIPTION:THE CASTLE - Worldwide Antiques, Eclectic Auction & Estates by Diana Cook 
UID:1776608758
STREET-ADDRESS:See website
POSTAL-CODE:46307
LOCALITY:Crown Point
REGION:ABBREV=IN
COUNTRY:ABBREV=US;ABBREV=USA:United States
URL;TYPE=Event Listing:https://estatesales.org/estate-sales/in/crown-point/46307/the-castle-worldwide-antiques-eclectic-1628729
PRIORITY:1
CLASS:PUBLIC
SEQUENCE:0
STATUS:CONFIRMED
TRANSP:OPAQUE
END:VEVENT
END:VCALENDAR
