BEGIN:VCALENDAR
VERSION:2.0
METHOD:PUBLISH
BEGIN:VEVENT
DTSTART:20250411T170000Z
DTEND:20250413T200000Z
LOCATION:Arlington, TX 76018
TRANSP: OPAQUE
SEQUENCE:0
UID:
DTSTAMP:20260419T060617Z
SUMMARY:75% OFF Cute Arlington home has Tools, Collectibles, Appliances, Exercise Equipment, Furniture, &…
DESCRIPTION:75% OFF Cute Arlington home has Tools, Collectibles, Appliances, Exercise Equipment, Furniture, &… Mansfield Estate Sales 
UID:1776600377
STREET-ADDRESS:See website
POSTAL-CODE:76018
LOCALITY:Arlington
REGION:ABBREV=TX
COUNTRY:ABBREV=US;ABBREV=USA:United States
URL;TYPE=Event Listing:https://estatesales.org/estate-sales/tx/arlington/76018/50-off-cute-arlington-home-2371543
PRIORITY:1
CLASS:PUBLIC
SEQUENCE:0
STATUS:CONFIRMED
TRANSP:OPAQUE
END:VEVENT
END:VCALENDAR
