BEGIN:VCALENDAR
VERSION:2.0
METHOD:PUBLISH
BEGIN:VEVENT
DTSTART:20250411T160000Z
DTEND:20250413T190000Z
LOCATION:Sonoma, CA 95476
TRANSP: OPAQUE
SEQUENCE:0
UID:
DTSTAMP:20260421T124104Z
SUMMARY:Sonoma Greens ~ Furniture - Vintage & New, Inside & Outside, Barware, Art, Linens, Clothing, Shoes and more
DESCRIPTION:Sonoma Greens ~ Furniture - Vintage & New, Inside & Outside, Barware, Art, Linens, Clothing, Shoes and more E Estates by Emily's ~ Consignment/Collective 
UID:1776796864
STREET-ADDRESS:See website
POSTAL-CODE:95476
LOCALITY:Sonoma
REGION:ABBREV=CA
COUNTRY:ABBREV=US;ABBREV=USA:United States
URL;TYPE=Event Listing:https://estatesales.org/estate-sales/ca/sonoma/95476/sonoma-greens-furniture-vintage-new-2370176
PRIORITY:1
CLASS:PUBLIC
SEQUENCE:0
STATUS:CONFIRMED
TRANSP:OPAQUE
END:VEVENT
END:VCALENDAR
