BEGIN:VCALENDAR
VERSION:2.0
METHOD:PUBLISH
BEGIN:VEVENT
DTSTART:20250411T150000Z
DTEND:20250413T200000Z
LOCATION:Olympia, WA 98506
TRANSP: OPAQUE
SEQUENCE:0
UID:
DTSTAMP:20260419T113744Z
SUMMARY:S.O.S Estate Services Photographer in Olympia
DESCRIPTION:S.O.S Estate Services Photographer in Olympia S.O.S, Estate Services 
UID:1776620264
STREET-ADDRESS:See website
POSTAL-CODE:98506
LOCALITY:Olympia
REGION:ABBREV=WA
COUNTRY:ABBREV=US;ABBREV=USA:United States
URL;TYPE=Event Listing:https://estatesales.org/estate-sales/wa/olympia/98506/sos-estate-services-photographer-in-2372118
PRIORITY:1
CLASS:PUBLIC
SEQUENCE:0
STATUS:CONFIRMED
TRANSP:OPAQUE
END:VEVENT
END:VCALENDAR
