BEGIN:VCALENDAR
VERSION:2.0
METHOD:PUBLISH
BEGIN:VEVENT
DTSTART:20250411T130000Z
DTEND:20250413T180000Z
LOCATION:Casselberry, FL 32707
TRANSP: OPAQUE
SEQUENCE:0
UID:
DTSTAMP:20260423T132647Z
SUMMARY:EMERALD will be in Casselberry
DESCRIPTION:EMERALD will be in Casselberry Estate Sales by Emerald 
UID:1776972407
STREET-ADDRESS:See website
POSTAL-CODE:32707
LOCALITY:Casselberry
REGION:ABBREV=FL
COUNTRY:ABBREV=US;ABBREV=USA:United States
URL;TYPE=Event Listing:https://estatesales.org/estate-sales/fl/casselberry/32707/emerald-will-be-in-casselberry-2371486
PRIORITY:1
CLASS:PUBLIC
SEQUENCE:0
STATUS:CONFIRMED
TRANSP:OPAQUE
END:VEVENT
END:VCALENDAR
