BEGIN:VCALENDAR
VERSION:2.0
METHOD:PUBLISH
BEGIN:VEVENT
DTSTART:20250411T130000Z
DTEND:20250412T190000Z
LOCATION:Stamford, CT 06905
TRANSP: OPAQUE
SEQUENCE:0
UID:
DTSTAMP:20260419T202937Z
SUMMARY:Fantastic Stamford estate sale
DESCRIPTION:Fantastic Stamford estate sale W C D Estate Sales, Liquidations, and Clean Outs 
UID:1776652177
STREET-ADDRESS:See website
POSTAL-CODE:06905
LOCALITY:Stamford
REGION:ABBREV=CT
COUNTRY:ABBREV=US;ABBREV=USA:United States
URL;TYPE=Event Listing:https://estatesales.org/estate-sales/ct/stamford/06905/fantastic-stamford-estate-sale-2371562
PRIORITY:1
CLASS:PUBLIC
SEQUENCE:0
STATUS:CONFIRMED
TRANSP:OPAQUE
END:VEVENT
END:VCALENDAR
