BEGIN:VCALENDAR
VERSION:2.0
METHOD:PUBLISH
BEGIN:VEVENT
DTSTART:20250411T160000Z
DTEND:20250412T210000Z
LOCATION:Clovis, CA 93611
TRANSP: OPAQUE
SEQUENCE:0
UID:
DTSTAMP:20260422T045947Z
SUMMARY:Fabulous Clovis Estate Sale
DESCRIPTION:Fabulous Clovis Estate Sale Edward Steer & Associates 
UID:1776855587
STREET-ADDRESS:See website
POSTAL-CODE:93611
LOCALITY:Clovis
REGION:ABBREV=CA
COUNTRY:ABBREV=US;ABBREV=USA:United States
URL;TYPE=Event Listing:https://estatesales.org/estate-sales/ca/clovis/93611/fabulous-clovis-estate-sale-2371869
PRIORITY:1
CLASS:PUBLIC
SEQUENCE:0
STATUS:CONFIRMED
TRANSP:OPAQUE
END:VEVENT
END:VCALENDAR
