BEGIN:VCALENDAR
VERSION:2.0
METHOD:PUBLISH
BEGIN:VEVENT
DTSTART:20250411T153000Z
DTEND:20250413T200000Z
LOCATION:Turlock, CA 95382
TRANSP: OPAQUE
SEQUENCE:0
UID:
DTSTAMP:20260421T125603Z
SUMMARY:''LARGE ESTATE SALE''
DESCRIPTION:''LARGE ESTATE SALE'' CALIFORNIA ESTATE SALES GROUP 
UID:1776797763
STREET-ADDRESS:See website
POSTAL-CODE:95382
LOCALITY:Turlock
REGION:ABBREV=CA
COUNTRY:ABBREV=US;ABBREV=USA:United States
URL;TYPE=Event Listing:https://estatesales.org/estate-sales/ca/turlock/95382/large-estate-sale-2371194
PRIORITY:1
CLASS:PUBLIC
SEQUENCE:0
STATUS:CONFIRMED
TRANSP:OPAQUE
END:VEVENT
END:VCALENDAR
