BEGIN:VCALENDAR
VERSION:2.0
METHOD:PUBLISH
BEGIN:VEVENT
DTSTART:20240411T150000Z
DTEND:20240415T210000Z
LOCATION:Riverside, CA 92506
TRANSP: OPAQUE
SEQUENCE:0
UID:
DTSTAMP:20260419T223743Z
SUMMARY:Great Riverside Sale Full of Art, Furniture, Ladies Clothing, Appliances and Much More!
DESCRIPTION:Great Riverside Sale Full of Art, Furniture, Ladies Clothing, Appliances and Much More! Estate Sales by Dee 
UID:1776659863
STREET-ADDRESS:See website
POSTAL-CODE:92506
LOCALITY:Riverside
REGION:ABBREV=CA
COUNTRY:ABBREV=US;ABBREV=USA:United States
URL;TYPE=Event Listing:https://estatesales.org/estate-sales/ca/riverside/92506/great-riverside-sale-full-of-2302783
PRIORITY:1
CLASS:PUBLIC
SEQUENCE:0
STATUS:CONFIRMED
TRANSP:OPAQUE
END:VEVENT
END:VCALENDAR
