BEGIN:VCALENDAR
VERSION:2.0
METHOD:PUBLISH
BEGIN:VEVENT
DTSTART:20230411T160000Z
DTEND:20230415T230000Z
LOCATION:Mcloud, OK 74851
TRANSP: OPAQUE
SEQUENCE:0
UID:
DTSTAMP:20260420T234928Z
SUMMARY:2 Sisters and an Angel - Estate Sale Finds
DESCRIPTION:2 Sisters and an Angel - Estate Sale Finds Two Sisters and An Angel INC. 
UID:1776750568
STREET-ADDRESS:See website
POSTAL-CODE:74851
LOCALITY:Mcloud
REGION:ABBREV=OK
COUNTRY:ABBREV=US;ABBREV=USA:United States
URL;TYPE=Event Listing:https://estatesales.org/estate-sales/ok/mcloud/74851/2-sisters-and-an-angel-2167331
PRIORITY:1
CLASS:PUBLIC
SEQUENCE:0
STATUS:CONFIRMED
TRANSP:OPAQUE
END:VEVENT
END:VCALENDAR
