BEGIN:VCALENDAR
VERSION:2.0
METHOD:PUBLISH
BEGIN:VEVENT
DTSTART:20150411T140000Z
DTEND:20150412T190000Z
LOCATION:Amagansett, NY 11930
TRANSP: OPAQUE
SEQUENCE:0
UID:
DTSTAMP:20260423T223839Z
SUMMARY:MINT ROOM & BRD, POTERY BARN & WEST ELM BEACH FURNISHINGS
DESCRIPTION:MINT ROOM & BRD, POTERY BARN & WEST ELM BEACH FURNISHINGS re.luxeHamptons 
UID:1777005519
STREET-ADDRESS:See website
POSTAL-CODE:11930
LOCALITY:Amagansett
REGION:ABBREV=NY
COUNTRY:ABBREV=US;ABBREV=USA:United States
URL;TYPE=Event Listing:https://estatesales.org/estate-sales/ny/amagansett/11930/mint-room-brd-potery-barn-526694
PRIORITY:1
CLASS:PUBLIC
SEQUENCE:0
STATUS:CONFIRMED
TRANSP:OPAQUE
END:VEVENT
END:VCALENDAR
