BEGIN:VCALENDAR
VERSION:2.0
METHOD:PUBLISH
BEGIN:VEVENT
DTSTART:20260410T170000Z
DTEND:20260411T200000Z
LOCATION:Olympia, WA 98502
TRANSP: OPAQUE
SEQUENCE:0
UID:
DTSTAMP:20260424T213358Z
SUMMARY:ESTATE SALE
DESCRIPTION:ESTATE SALE Elizabeth's Estate Sale Services 
UID:1777088038
STREET-ADDRESS:See website
POSTAL-CODE:98502
LOCALITY:Olympia
REGION:ABBREV=WA
COUNTRY:ABBREV=US;ABBREV=USA:United States
URL;TYPE=Event Listing:https://estatesales.org/estate-sales/wa/olympia/98502/estate-sale-2433608
PRIORITY:1
CLASS:PUBLIC
SEQUENCE:0
STATUS:CONFIRMED
TRANSP:OPAQUE
END:VEVENT
END:VCALENDAR
