BEGIN:VCALENDAR
VERSION:2.0
METHOD:PUBLISH
BEGIN:VEVENT
DTSTART:20250410T150000Z
DTEND:20250413T200000Z
LOCATION:Katy, TX 77493
TRANSP: OPAQUE
SEQUENCE:0
UID:
DTSTAMP:20260425T074137Z
SUMMARY:Katy Super Sale, 50% off Selected Furniture.
DESCRIPTION:Katy Super Sale, 50% off Selected Furniture. Weaster Auctions 
UID:1777124497
STREET-ADDRESS:See website
POSTAL-CODE:77493
LOCALITY:Katy
REGION:ABBREV=TX
COUNTRY:ABBREV=US;ABBREV=USA:United States
URL;TYPE=Event Listing:https://estatesales.org/estate-sales/tx/katy/77493/katy-super-sale-50-off-2369757
PRIORITY:1
CLASS:PUBLIC
SEQUENCE:0
STATUS:CONFIRMED
TRANSP:OPAQUE
END:VEVENT
END:VCALENDAR
