BEGIN:VCALENDAR
VERSION:2.0
METHOD:PUBLISH
BEGIN:VEVENT
DTSTART:20250410T160000Z
DTEND:20250412T190000Z
LOCATION:Denver, CO 80210
TRANSP: OPAQUE
SEQUENCE:0
UID:
DTSTAMP:20260420T005406Z
SUMMARY:Vintage @ University Park Estate Sale
DESCRIPTION:Vintage @ University Park Estate Sale American Estate Sales 
UID:1776668046
STREET-ADDRESS:See website
POSTAL-CODE:80210
LOCALITY:Denver
REGION:ABBREV=CO
COUNTRY:ABBREV=US;ABBREV=USA:United States
URL;TYPE=Event Listing:https://estatesales.org/estate-sales/co/denver/80210/vintage-university-park-estate-sale-2371764
PRIORITY:1
CLASS:PUBLIC
SEQUENCE:0
STATUS:CONFIRMED
TRANSP:OPAQUE
END:VEVENT
END:VCALENDAR
