BEGIN:VCALENDAR
VERSION:2.0
METHOD:PUBLISH
BEGIN:VEVENT
DTSTART:20250410T150000Z
DTEND:20250412T200000Z
LOCATION:Littleton, CO 80128
TRANSP: OPAQUE
SEQUENCE:0
UID:
DTSTAMP:20260421T151311Z
SUMMARY:Grason of SW Denver - HOARDER HEAVEN - this PACKED home has something for everyone!
DESCRIPTION:Grason of SW Denver - HOARDER HEAVEN - this PACKED home has something for everyone! Grasons of Southwest Denver, CO 
UID:1776805991
STREET-ADDRESS:See website
POSTAL-CODE:80128
LOCALITY:Littleton
REGION:ABBREV=CO
COUNTRY:ABBREV=US;ABBREV=USA:United States
URL;TYPE=Event Listing:https://estatesales.org/estate-sales/co/littleton/80128/grason-of-sw-denver-this-2371280
PRIORITY:1
CLASS:PUBLIC
SEQUENCE:0
STATUS:CONFIRMED
TRANSP:OPAQUE
END:VEVENT
END:VCALENDAR
