BEGIN:VCALENDAR
VERSION:2.0
METHOD:PUBLISH
BEGIN:VEVENT
DTSTART:20250410T140000Z
DTEND:20250412T210000Z
LOCATION:Colorado Springs, CO 80907
TRANSP: OPAQUE
SEQUENCE:0
UID:
DTSTAMP:20260419T054019Z
SUMMARY:Pioneer Rd. Picker Sale
DESCRIPTION:Pioneer Rd. Picker Sale Vintage Estate Company 
UID:1776598819
STREET-ADDRESS:See website
POSTAL-CODE:80907
LOCALITY:Colorado Springs
REGION:ABBREV=CO
COUNTRY:ABBREV=US;ABBREV=USA:United States
URL;TYPE=Event Listing:https://estatesales.org/estate-sales/co/colorado-springs/80907/pioneer-rd-picker-sale-2371867
PRIORITY:1
CLASS:PUBLIC
SEQUENCE:0
STATUS:CONFIRMED
TRANSP:OPAQUE
END:VEVENT
END:VCALENDAR
