BEGIN:VCALENDAR
VERSION:2.0
METHOD:PUBLISH
BEGIN:VEVENT
DTSTART:20210410T153000Z
DTEND:20210411T200000Z
LOCATION:Aurora, CO 80014
TRANSP: OPAQUE
SEQUENCE:0
UID:
DTSTAMP:20260420T204705Z
SUMMARY:The Leppe Estate
DESCRIPTION:The Leppe Estate Adan’s Hidden Treasures Estate Sale Company 
UID:1776739625
STREET-ADDRESS:See website
POSTAL-CODE:80014
LOCALITY:Aurora
REGION:ABBREV=CO
COUNTRY:ABBREV=US;ABBREV=USA:United States
URL;TYPE=Event Listing:https://estatesales.org/estate-sales/co/aurora/80014/the-leppe-estate-1887959
PRIORITY:1
CLASS:PUBLIC
SEQUENCE:0
STATUS:CONFIRMED
TRANSP:OPAQUE
END:VEVENT
END:VCALENDAR
