BEGIN:VCALENDAR
VERSION:2.0
METHOD:PUBLISH
BEGIN:VEVENT
DTSTART:20210410T130000Z
DTEND:20210411T200000Z
LOCATION:Trumbull, CT 06611
TRANSP: OPAQUE
SEQUENCE:0
UID:
DTSTAMP:20260424T115813Z
SUMMARY:Three Houses Rolled Into One - Moving Sale in Trumbull
DESCRIPTION:Three Houses Rolled Into One - Moving Sale in Trumbull A Golden Grasshopper Estate Sales 
UID:1777053493
STREET-ADDRESS:See website
POSTAL-CODE:06611
LOCALITY:Trumbull
REGION:ABBREV=CT
COUNTRY:ABBREV=US;ABBREV=USA:United States
URL;TYPE=Event Listing:https://estatesales.org/estate-sales/ct/trumbull--/06611/three-houses-rolled-into-one-1887727
PRIORITY:1
CLASS:PUBLIC
SEQUENCE:0
STATUS:CONFIRMED
TRANSP:OPAQUE
END:VEVENT
END:VCALENDAR
