BEGIN:VCALENDAR
VERSION:2.0
METHOD:PUBLISH
BEGIN:VEVENT
DTSTART:20210410T160000Z
DTEND:20210411T203000Z
LOCATION:Burbank, CA 91504
TRANSP: OPAQUE
SEQUENCE:0
UID:
DTSTAMP:20260420T021114Z
SUMMARY:Sunday All Must Go! Reasonable offers taken! Furniture, Décor, Art, Southwestern, Mid Century
DESCRIPTION:Sunday All Must Go! Reasonable offers taken! Furniture, Décor, Art, Southwestern, Mid Century Triumphant Estate Sales of Los Angeles 
UID:1776672674
STREET-ADDRESS:See website
POSTAL-CODE:91504
LOCALITY:Burbank
REGION:ABBREV=CA
COUNTRY:ABBREV=US;ABBREV=USA:United States
URL;TYPE=Event Listing:https://estatesales.org/estate-sales/ca/burbank/91504/sunday-all-must-go-reasonable-1887243
PRIORITY:1
CLASS:PUBLIC
SEQUENCE:0
STATUS:CONFIRMED
TRANSP:OPAQUE
END:VEVENT
END:VCALENDAR
