BEGIN:VCALENDAR
VERSION:2.0
METHOD:PUBLISH
BEGIN:VEVENT
DTSTART:20210409T160000Z
DTEND:20210410T190000Z
LOCATION:Rancho Cucamonga, CA 91737
TRANSP: OPAQUE
SEQUENCE:0
UID:
DTSTAMP:20260425T202145Z
SUMMARY:Grasons Co Estate Specialists Stunning Rancho Cucamonga Virtual Estate Sale
DESCRIPTION:Grasons Co Estate Specialists Stunning Rancho Cucamonga Virtual Estate Sale Grasons Co Estate Specialists 
UID:1777170105
STREET-ADDRESS:See website
POSTAL-CODE:91737
LOCALITY:Rancho Cucamonga
REGION:ABBREV=CA
COUNTRY:ABBREV=US;ABBREV=USA:United States
URL;TYPE=Event Listing:https://estatesales.org/estate-sales/ca/rancho-cucamonga/91737/grasons-co-estate-specialists-stunning-1871515
PRIORITY:1
CLASS:PUBLIC
SEQUENCE:0
STATUS:CONFIRMED
TRANSP:OPAQUE
END:VEVENT
END:VCALENDAR
