BEGIN:VCALENDAR
VERSION:2.0
METHOD:PUBLISH
BEGIN:VEVENT
DTSTART:20160409T140000Z
DTEND:20160410T190000Z
LOCATION:Ann Arbor, MI 48104
TRANSP: OPAQUE
SEQUENCE:0
UID:
DTSTAMP:20260424T030303Z
SUMMARY:Awesome Ann Arbor Sale!
DESCRIPTION:Awesome Ann Arbor Sale! TLC Premiere Estate Sales, LLC 
UID:1777021383
STREET-ADDRESS:See website
POSTAL-CODE:48104
LOCALITY:Ann Arbor
REGION:ABBREV=MI
COUNTRY:ABBREV=US;ABBREV=USA:United States
URL;TYPE=Event Listing:https://estatesales.org/estate-sales/mi/ann-arbor/48104/awesome-ann-arbor-sale-814821
PRIORITY:1
CLASS:PUBLIC
SEQUENCE:0
STATUS:CONFIRMED
TRANSP:OPAQUE
END:VEVENT
END:VCALENDAR
