BEGIN:VCALENDAR
VERSION:2.0
METHOD:PUBLISH
BEGIN:VEVENT
DTSTART:20160409T230000Z
DTEND:20160409T040000Z
LOCATION:Monroe, GA 30656
TRANSP: OPAQUE
SEQUENCE:0
UID:
DTSTAMP:20260422T012540Z
SUMMARY:Finally at it again!
DESCRIPTION:Finally at it again! Carousel Auction 
UID:1776842740
STREET-ADDRESS:See website
POSTAL-CODE:30656
LOCALITY:Monroe
REGION:ABBREV=GA
COUNTRY:ABBREV=US;ABBREV=USA:United States
URL;TYPE=Event Listing:https://estatesales.org/estate-sales/ga/monroe/30656/finally-at-it-again-819023
PRIORITY:1
CLASS:PUBLIC
SEQUENCE:0
STATUS:CONFIRMED
TRANSP:OPAQUE
END:VEVENT
END:VCALENDAR
