BEGIN:VCALENDAR
VERSION:2.0
METHOD:PUBLISH
BEGIN:VEVENT
DTSTART:20230408T110000Z
DTEND:20230408T160000Z
LOCATION:Slidell, LA 70461
TRANSP: OPAQUE
SEQUENCE:0
UID:
DTSTAMP:20260425T141829Z
SUMMARY:Mary Kay & More Estate Sale
DESCRIPTION:Mary Kay & More Estate Sale Chasity's Virtual Estate Sales 
UID:1777148309
STREET-ADDRESS:See website
POSTAL-CODE:70461
LOCALITY:Slidell
REGION:ABBREV=LA
COUNTRY:ABBREV=US;ABBREV=USA:United States
URL;TYPE=Event Listing:https://estatesales.org/estate-sales/la/slidell/70461/mary-kay-more-estate-sale-2159935
PRIORITY:1
CLASS:PUBLIC
SEQUENCE:0
STATUS:CONFIRMED
TRANSP:OPAQUE
END:VEVENT
END:VCALENDAR
