BEGIN:VCALENDAR
VERSION:2.0
METHOD:PUBLISH
BEGIN:VEVENT
DTSTART:20220408T170000Z
DTEND:20220410T220000Z
LOCATION:Pacific Grove, CA 93950
TRANSP: OPAQUE
SEQUENCE:0
UID:
DTSTAMP:20260421T115744Z
SUMMARY:Cute little Pacific Grove Sale 
DESCRIPTION:Cute little Pacific Grove Sale  A Move Made SImple 
UID:1776794264
STREET-ADDRESS:See website
POSTAL-CODE:93950
LOCALITY:Pacific Grove
REGION:ABBREV=CA
COUNTRY:ABBREV=US;ABBREV=USA:United States
URL;TYPE=Event Listing:https://estatesales.org/estate-sales/ca/pacific-grove/93950/cute-little-pacific-grove-sale-2027287
PRIORITY:1
CLASS:PUBLIC
SEQUENCE:0
STATUS:CONFIRMED
TRANSP:OPAQUE
END:VEVENT
END:VCALENDAR
