BEGIN:VCALENDAR
VERSION:2.0
METHOD:PUBLISH
BEGIN:VEVENT
DTSTART:20210408T120000Z
DTEND:20210411T190000Z
LOCATION:Ruskin, FL 33570
TRANSP: OPAQUE
SEQUENCE:0
UID:
DTSTAMP:20260424T000415Z
SUMMARY:RUSKIN: VERY FULL HOUSE ESTATE SALE!!!
DESCRIPTION:RUSKIN: VERY FULL HOUSE ESTATE SALE!!! Full House Liquidation 
UID:1777010655
STREET-ADDRESS:See website
POSTAL-CODE:33570
LOCALITY:Ruskin
REGION:ABBREV=FL
COUNTRY:ABBREV=US;ABBREV=USA:United States
URL;TYPE=Event Listing:https://estatesales.org/estate-sales/fl/ruskin/33570/ruskin-very-full-house-estate-1886047
PRIORITY:1
CLASS:PUBLIC
SEQUENCE:0
STATUS:CONFIRMED
TRANSP:OPAQUE
END:VEVENT
END:VCALENDAR
