BEGIN:VCALENDAR
VERSION:2.0
METHOD:PUBLISH
BEGIN:VEVENT
DTSTART:20170408T150000Z
DTEND:20170409T220000Z
LOCATION:Bremerton, WA 98312
TRANSP: OPAQUE
SEQUENCE:0
UID:
DTSTAMP:20260424T133529Z
SUMMARY:PW Green Antiques - Bremerton Estate Sale
DESCRIPTION:PW Green Antiques - Bremerton Estate Sale P W Green Antiques & Estate Sales 
UID:1777059329
STREET-ADDRESS:See website
POSTAL-CODE:98312
LOCALITY:Bremerton
REGION:ABBREV=WA
COUNTRY:ABBREV=US;ABBREV=USA:United States
URL;TYPE=Event Listing:https://estatesales.org/estate-sales/wa/bremerton/98312/pw-green-antiques-bremerton-estate-1126389
PRIORITY:1
CLASS:PUBLIC
SEQUENCE:0
STATUS:CONFIRMED
TRANSP:OPAQUE
END:VEVENT
END:VCALENDAR
