BEGIN:VCALENDAR
VERSION:2.0
METHOD:PUBLISH
BEGIN:VEVENT
DTSTART:20220407T140000Z
DTEND:20220409T190000Z
LOCATION:Elburn, IL 60119
TRANSP: OPAQUE
SEQUENCE:0
UID:
DTSTAMP:20260425T145516Z
SUMMARY:Grasons of NW Chicagoland Sportmans Spectacluar Estate Sale
DESCRIPTION:Grasons of NW Chicagoland Sportmans Spectacluar Estate Sale Grasons Co of NW Chicagoland 
UID:1777150516
STREET-ADDRESS:See website
POSTAL-CODE:60119
LOCALITY:Elburn
REGION:ABBREV=IL
COUNTRY:ABBREV=US;ABBREV=USA:United States
URL;TYPE=Event Listing:https://estatesales.org/estate-sales/il/campton-hills/60119/grasons-of-nw-chicagoland-sportmans-2016685
PRIORITY:1
CLASS:PUBLIC
SEQUENCE:0
STATUS:CONFIRMED
TRANSP:OPAQUE
END:VEVENT
END:VCALENDAR
