BEGIN:VCALENDAR
VERSION:2.0
METHOD:PUBLISH
BEGIN:VEVENT
DTSTART:20180407T160000Z
DTEND:20180408T200000Z
LOCATION:Santa Rosa, CA 95409
TRANSP: OPAQUE
SEQUENCE:0
UID:
DTSTAMP:20260421T124153Z
SUMMARY:LARGE OAKMONT ESTATE SALE BY SUSAN GARDNER
DESCRIPTION:LARGE OAKMONT ESTATE SALE BY SUSAN GARDNER Susan Gardner Estate Sales 
UID:1776796913
STREET-ADDRESS:See website
POSTAL-CODE:95409
LOCALITY:Santa Rosa
REGION:ABBREV=CA
COUNTRY:ABBREV=US;ABBREV=USA:United States
URL;TYPE=Event Listing:https://estatesales.org/estate-sales/ca/santa-rosa/95409/large-oakmont-estate-sale-by-1499417
PRIORITY:1
CLASS:PUBLIC
SEQUENCE:0
STATUS:CONFIRMED
TRANSP:OPAQUE
END:VEVENT
END:VCALENDAR
