BEGIN:VCALENDAR
VERSION:2.0
METHOD:PUBLISH
BEGIN:VEVENT
DTSTART:20160407T150000Z
DTEND:20160410T230000Z
LOCATION:Colorado Springs, CO 80909
TRANSP: OPAQUE
SEQUENCE:0
UID:
DTSTAMP:20260420T203935Z
SUMMARY:Que Lindas Great Spring Estate Sale
DESCRIPTION:Que Lindas Great Spring Estate Sale Que Linda Trading Co 
UID:1776739175
STREET-ADDRESS:See website
POSTAL-CODE:80909
LOCALITY:Colorado Springs
REGION:ABBREV=CO
COUNTRY:ABBREV=US;ABBREV=USA:United States
URL;TYPE=Event Listing:https://estatesales.org/estate-sales/co/colorado-springs/80909/que-lindas-great-spring-estate-815035
PRIORITY:1
CLASS:PUBLIC
SEQUENCE:0
STATUS:CONFIRMED
TRANSP:OPAQUE
END:VEVENT
END:VCALENDAR
