BEGIN:VCALENDAR
VERSION:2.0
METHOD:PUBLISH
BEGIN:VEVENT
DTSTART:20250406T120000Z
DTEND:20250407T200000Z
LOCATION:Fort Smith, AR 72903
TRANSP: OPAQUE
SEQUENCE:0
UID:
DTSTAMP:20260423T140000Z
SUMMARY:Fort Smith Easter Estate Sale
DESCRIPTION:Fort Smith Easter Estate Sale Crouch Estate Sales 
UID:1776974400
STREET-ADDRESS:See website
POSTAL-CODE:72903
LOCALITY:Fort Smith
REGION:ABBREV=AR
COUNTRY:ABBREV=US;ABBREV=USA:United States
URL;TYPE=Event Listing:https://estatesales.org/estate-sales/ar/fort-smith/72903/fort-smith-easter-estate-sale-2367335
PRIORITY:1
CLASS:PUBLIC
SEQUENCE:0
STATUS:CONFIRMED
TRANSP:OPAQUE
END:VEVENT
END:VCALENDAR
