BEGIN:VCALENDAR
VERSION:2.0
METHOD:PUBLISH
BEGIN:VEVENT
DTSTART:20240406T160000Z
DTEND:20240407T220000Z
LOCATION:Los Angeles, CA 90272
TRANSP: OPAQUE
SEQUENCE:0
UID:
DTSTAMP:20260420T044041Z
SUMMARY:DISCOUNT Sunday Pacific Palisades Estate Liquidation Sale
DESCRIPTION:DISCOUNT Sunday Pacific Palisades Estate Liquidation Sale Hidden Treasure Estate Sales 
UID:1776681641
STREET-ADDRESS:See website
POSTAL-CODE:90272
LOCALITY:Los Angeles
REGION:ABBREV=CA
COUNTRY:ABBREV=US;ABBREV=USA:United States
URL;TYPE=Event Listing:https://estatesales.org/estate-sales/ca/los-angeles/90272/discount-sunday-pacific-palisades-estate-2284787
PRIORITY:1
CLASS:PUBLIC
SEQUENCE:0
STATUS:CONFIRMED
TRANSP:OPAQUE
END:VEVENT
END:VCALENDAR
