BEGIN:VCALENDAR
VERSION:2.0
METHOD:PUBLISH
BEGIN:VEVENT
DTSTART:20240406T120000Z
DTEND:20240407T190000Z
LOCATION:Saint Louis, MO 63129
TRANSP: OPAQUE
SEQUENCE:0
UID:
DTSTAMP:20260419T163241Z
SUMMARY:South County moving sale. Nice clean contents
DESCRIPTION:South County moving sale. Nice clean contents Lizzy Lou Estate Sales, LLC 
UID:1776637961
STREET-ADDRESS:See website
POSTAL-CODE:63129
LOCALITY:Saint Louis
REGION:ABBREV=MO
COUNTRY:ABBREV=US;ABBREV=USA:United States
URL;TYPE=Event Listing:https://estatesales.org/estate-sales/mo/saint-louis/63129/south-county-moving-sale-nice-2296651
PRIORITY:1
CLASS:PUBLIC
SEQUENCE:0
STATUS:CONFIRMED
TRANSP:OPAQUE
END:VEVENT
END:VCALENDAR
