BEGIN:VCALENDAR
VERSION:2.0
METHOD:PUBLISH
BEGIN:VEVENT
DTSTART:20230406T150000Z
DTEND:20230408T220000Z
LOCATION:Riverside, CA 92506
TRANSP: OPAQUE
SEQUENCE:0
UID:
DTSTAMP:20260419T223743Z
SUMMARY:Riverside Sale Full of Collections, Art, Furniture, Sporting Equipment, Vintage Books, Appliances +++
DESCRIPTION:Riverside Sale Full of Collections, Art, Furniture, Sporting Equipment, Vintage Books, Appliances +++ Estate Sales by Dee 
UID:1776659863
STREET-ADDRESS:See website
POSTAL-CODE:92506
LOCALITY:Riverside
REGION:ABBREV=CA
COUNTRY:ABBREV=US;ABBREV=USA:United States
URL;TYPE=Event Listing:https://estatesales.org/estate-sales/ca/riverside/92506/riverside-sale-full-of-collections-2165371
PRIORITY:1
CLASS:PUBLIC
SEQUENCE:0
STATUS:CONFIRMED
TRANSP:OPAQUE
END:VEVENT
END:VCALENDAR
