BEGIN:VCALENDAR
VERSION:2.0
METHOD:PUBLISH
BEGIN:VEVENT
DTSTART:20190406T143000Z
DTEND:20190407T035900Z
LOCATION:By appointment only.
TRANSP: OPAQUE
SEQUENCE:0
UID:
DTSTAMP:20260420T094333Z
SUMMARY:IMPORTANT SPRING WORLDWIDE AUCTION Including Artwork from Original Dada Movement Founder!
DESCRIPTION:IMPORTANT SPRING WORLDWIDE AUCTION Including Artwork from Original Dada Movement Founder! Auctions, Estate Sales & Real Estate by: Terri Peters & Associates   (315-447-1656)  CNY's Premier Auction & Estate Company 
UID:1776699813
STREET-ADDRESS:See website
POSTAL-CODE:13214
LOCALITY:Syracuse
REGION:ABBREV=NY
COUNTRY:ABBREV=US;ABBREV=USA:United States
URL;TYPE=Event Listing:https://estatesales.org/estate-sales/ny/dewitt/13214/important-spring-worldwide-auction-including-1612277
PRIORITY:1
CLASS:PUBLIC
SEQUENCE:0
STATUS:CONFIRMED
TRANSP:OPAQUE
END:VEVENT
END:VCALENDAR
