BEGIN:VCALENDAR
VERSION:2.0
METHOD:PUBLISH
BEGIN:VEVENT
DTSTART:20190406T153000Z
DTEND:20190407T200000Z
LOCATION:Denver, CO 80227
TRANSP: OPAQUE
SEQUENCE:0
UID:
DTSTAMP:20260420T204538Z
SUMMARY:La Salle Sale
DESCRIPTION:La Salle Sale Adan’s Hidden Treasures Estate Sale Company 
UID:1776739538
STREET-ADDRESS:See website
POSTAL-CODE:80227
LOCALITY:Denver
REGION:ABBREV=CO
COUNTRY:ABBREV=US;ABBREV=USA:United States
URL;TYPE=Event Listing:https://estatesales.org/estate-sales/co/lakewood/80227/la-salle-sale-1642561
PRIORITY:1
CLASS:PUBLIC
SEQUENCE:0
STATUS:CONFIRMED
TRANSP:OPAQUE
END:VEVENT
END:VCALENDAR
