BEGIN:VCALENDAR
VERSION:2.0
METHOD:PUBLISH
BEGIN:VEVENT
DTSTART:20190406T150000Z
DTEND:20190406T220000Z
LOCATION:Lubbock, TX 79423
TRANSP: OPAQUE
SEQUENCE:0
UID:
DTSTAMP:20260424T202627Z
SUMMARY:Belle Ordure presents Hooked on Junks wharehouse sale. 
DESCRIPTION:Belle Ordure presents Hooked on Junks wharehouse sale.  Belle Ordure Estate Sales 
UID:1777083987
STREET-ADDRESS:See website
POSTAL-CODE:79423
LOCALITY:Lubbock
REGION:ABBREV=TX
COUNTRY:ABBREV=US;ABBREV=USA:United States
URL;TYPE=Event Listing:https://estatesales.org/estate-sales/tx/lubbock-/79423/belle-ordure-presents-hooked-on-1643327
PRIORITY:1
CLASS:PUBLIC
SEQUENCE:0
STATUS:CONFIRMED
TRANSP:OPAQUE
END:VEVENT
END:VCALENDAR
