BEGIN:VCALENDAR
VERSION:2.0
METHOD:PUBLISH
BEGIN:VEVENT
DTSTART:20190406T130000Z
DTEND:20190406T200000Z
LOCATION:Virginia Beach, VA 23452
TRANSP: OPAQUE
SEQUENCE:0
UID:
DTSTAMP:20260421T202919Z
SUMMARY:Pop Up Sale - Virginia Beach
DESCRIPTION:Pop Up Sale - Virginia Beach Estate Sales of Virginia 
UID:1776824959
STREET-ADDRESS:See website
POSTAL-CODE:23452
LOCALITY:Virginia Beach
REGION:ABBREV=VA
COUNTRY:ABBREV=US;ABBREV=USA:United States
URL;TYPE=Event Listing:https://estatesales.org/estate-sales/va/virginia-beach/23452/pop-up-sale-virginia-beach-1642283
PRIORITY:1
CLASS:PUBLIC
SEQUENCE:0
STATUS:CONFIRMED
TRANSP:OPAQUE
END:VEVENT
END:VCALENDAR
