BEGIN:VCALENDAR
VERSION:2.0
METHOD:PUBLISH
BEGIN:VEVENT
DTSTART:20170406T150000Z
DTEND:20170407T190000Z
LOCATION:Kenmore, WA 98028
TRANSP: OPAQUE
SEQUENCE:0
UID:
DTSTAMP:20260424T133528Z
SUMMARY:A&W Helping Hands "Kenmore" Estate sale
DESCRIPTION:A&W Helping Hands "Kenmore" Estate sale A&W Helping Hands Estate Sale services and full cleanouts 
UID:1777059328
STREET-ADDRESS:See website
POSTAL-CODE:98028
LOCALITY:Kenmore
REGION:ABBREV=WA
COUNTRY:ABBREV=US;ABBREV=USA:United States
URL;TYPE=Event Listing:https://estatesales.org/estate-sales/wa/kenmore/98028/aw-helping-hands-kenmore-estate-1133429
PRIORITY:1
CLASS:PUBLIC
SEQUENCE:0
STATUS:CONFIRMED
TRANSP:OPAQUE
END:VEVENT
END:VCALENDAR
