BEGIN:VCALENDAR
VERSION:2.0
METHOD:PUBLISH
BEGIN:VEVENT
DTSTART:20160406T130000Z
DTEND:20160407T180000Z
LOCATION:Overland Park, KS 66223
TRANSP: OPAQUE
SEQUENCE:0
UID:
DTSTAMP:20260420T171902Z
SUMMARY:Lionsgate Estate Sale Mid Century Modern to Henredon 
DESCRIPTION:Lionsgate Estate Sale Mid Century Modern to Henredon  Heartland Estate Sales 
UID:1776727142
STREET-ADDRESS:See website
POSTAL-CODE:66223
LOCALITY:Overland Park
REGION:ABBREV=KS
COUNTRY:ABBREV=US;ABBREV=USA:United States
URL;TYPE=Event Listing:https://estatesales.org/estate-sales/ks/overland-park/66223/lionsgate-estate-sale-mid-century-813613
PRIORITY:1
CLASS:PUBLIC
SEQUENCE:0
STATUS:CONFIRMED
TRANSP:OPAQUE
END:VEVENT
END:VCALENDAR
