BEGIN:VCALENDAR
VERSION:2.0
METHOD:PUBLISH
BEGIN:VEVENT
DTSTART:20250405T120000Z
DTEND:20250406T190000Z
LOCATION:Dexter, MO 63841
TRANSP: OPAQUE
SEQUENCE:0
UID:
DTSTAMP:20260419T181857Z
SUMMARY:Dexter, MO - Beautiful furnishings, household, collectibles and more. Clean contents!
DESCRIPTION:Dexter, MO - Beautiful furnishings, household, collectibles and more. Clean contents! Lizzy Lou Estate Sales, LLC 
UID:1776644337
STREET-ADDRESS:See website
POSTAL-CODE:63841
LOCALITY:Dexter
REGION:ABBREV=MO
COUNTRY:ABBREV=US;ABBREV=USA:United States
URL;TYPE=Event Listing:https://estatesales.org/estate-sales/mo/dexter/63841/dexter-mo-beautiful-furnishings-household-2368049
PRIORITY:1
CLASS:PUBLIC
SEQUENCE:0
STATUS:CONFIRMED
TRANSP:OPAQUE
END:VEVENT
END:VCALENDAR
