BEGIN:VCALENDAR
VERSION:2.0
METHOD:PUBLISH
BEGIN:VEVENT
DTSTART:20240405T150000Z
DTEND:20240406T200000Z
LOCATION:Tampa, FL 33634
TRANSP: OPAQUE
SEQUENCE:0
UID:
DTSTAMP:20260421T145159Z
SUMMARY:Friday-Saturday Dana Shores Estate Sale
DESCRIPTION:Friday-Saturday Dana Shores Estate Sale Done Deal Estate Sales and Appraisals, LLC 
UID:1776804719
STREET-ADDRESS:See website
POSTAL-CODE:33634
LOCALITY:Tampa
REGION:ABBREV=FL
COUNTRY:ABBREV=US;ABBREV=USA:United States
URL;TYPE=Event Listing:https://estatesales.org/estate-sales/fl/tampa/33634/fridaysaturday-dana-shores-estate-sale-2300981
PRIORITY:1
CLASS:PUBLIC
SEQUENCE:0
STATUS:CONFIRMED
TRANSP:OPAQUE
END:VEVENT
END:VCALENDAR
