BEGIN:VCALENDAR
VERSION:2.0
METHOD:PUBLISH
BEGIN:VEVENT
DTSTART:20240405T160000Z
DTEND:20240407T230000Z
LOCATION:Henderson, CO 80640
TRANSP: OPAQUE
SEQUENCE:0
UID:
DTSTAMP:20260419T113744Z
SUMMARY:Charlie’s Strieb estate
DESCRIPTION:Charlie’s Strieb estate AWAY IT GOES ESTATE SALES 
UID:1776620264
STREET-ADDRESS:See website
POSTAL-CODE:80640
LOCALITY:Henderson
REGION:ABBREV=CO
COUNTRY:ABBREV=US;ABBREV=USA:United States
URL;TYPE=Event Listing:https://estatesales.org/estate-sales/co/henderson/80640/charlies-strieb-estate-2300441
PRIORITY:1
CLASS:PUBLIC
SEQUENCE:0
STATUS:CONFIRMED
TRANSP:OPAQUE
END:VEVENT
END:VCALENDAR
