BEGIN:VCALENDAR
VERSION:2.0
METHOD:PUBLISH
BEGIN:VEVENT
DTSTART:20240405T163000Z
DTEND:20240406T210000Z
LOCATION:Chandler, AZ 85226
TRANSP: OPAQUE
SEQUENCE:0
UID:
DTSTAMP:20260421T230012Z
SUMMARY:**UPDATE 2 DAY SALE** Tools, Mid-Century, Antiques, Jewelry, Sewing -- Huge Chandler Sale
DESCRIPTION:**UPDATE 2 DAY SALE** Tools, Mid-Century, Antiques, Jewelry, Sewing -- Huge Chandler Sale Boyds AZ 
UID:1776834012
STREET-ADDRESS:See website
POSTAL-CODE:85226
LOCALITY:Chandler
REGION:ABBREV=AZ
COUNTRY:ABBREV=US;ABBREV=USA:United States
URL;TYPE=Event Listing:https://estatesales.org/estate-sales/az/chandler/85226/update-2-day-sale-tools-2287473
PRIORITY:1
CLASS:PUBLIC
SEQUENCE:0
STATUS:CONFIRMED
TRANSP:OPAQUE
END:VEVENT
END:VCALENDAR
