BEGIN:VCALENDAR
VERSION:2.0
METHOD:PUBLISH
BEGIN:VEVENT
DTSTART:20240405T150000Z
DTEND:20240407T200000Z
LOCATION:Borrego Springs, CA 92004
TRANSP: OPAQUE
SEQUENCE:0
UID:
DTSTAMP:20260425T045207Z
SUMMARY:Air Ranch Estate Sale - Entire House, Garage, AND Hangar
DESCRIPTION:Air Ranch Estate Sale - Entire House, Garage, AND Hangar Groovy Bakeshop 
UID:1777114327
STREET-ADDRESS:See website
POSTAL-CODE:92004
LOCALITY:Borrego Springs
REGION:ABBREV=CA
COUNTRY:ABBREV=US;ABBREV=USA:United States
URL;TYPE=Event Listing:https://estatesales.org/estate-sales/ca/borrego-springs/92004/air-ranch-estate-sale-entire-2297371
PRIORITY:1
CLASS:PUBLIC
SEQUENCE:0
STATUS:CONFIRMED
TRANSP:OPAQUE
END:VEVENT
END:VCALENDAR
