BEGIN:VCALENDAR
VERSION:2.0
METHOD:PUBLISH
BEGIN:VEVENT
DTSTART:20190405T140000Z
DTEND:20190406T220000Z
LOCATION:Haughton, LA 71037
TRANSP: OPAQUE
SEQUENCE:0
UID:
DTSTAMP:20260421T032515Z
SUMMARY:Mid Century Modern estate sale in Dogwood- Proceeds for Charities- St. Jude’s & a scholarship program at Bossier Parish Community College
DESCRIPTION:Mid Century Modern estate sale in Dogwood- Proceeds for Charities- St. Jude’s & a scholarship program at Bossier Parish Community College Antique Hustle Estate Sales 
UID:1776763515
STREET-ADDRESS:See website
POSTAL-CODE:71037
LOCALITY:Haughton
REGION:ABBREV=LA
COUNTRY:ABBREV=US;ABBREV=USA:United States
URL;TYPE=Event Listing:https://estatesales.org/estate-sales/la/haughton/71037/mid-century-modern-estate-sale-1641869
PRIORITY:1
CLASS:PUBLIC
SEQUENCE:0
STATUS:CONFIRMED
TRANSP:OPAQUE
END:VEVENT
END:VCALENDAR
