BEGIN:VCALENDAR
VERSION:2.0
METHOD:PUBLISH
BEGIN:VEVENT
DTSTART:20250404T140000Z
DTEND:20250405T190000Z
LOCATION:Chesapeake, VA 23322
TRANSP: OPAQUE
SEQUENCE:0
UID:
DTSTAMP:20260421T032601Z
SUMMARY:50% Off Sat. 4/5 Last Day ESTATE SALE FRI-SAT 4/5 CHESAPEAKE VA - ANTIQUES, CHRISTMAS, HALL TREE, LARGE LOTS
DESCRIPTION:50% Off Sat. 4/5 Last Day ESTATE SALE FRI-SAT 4/5 CHESAPEAKE VA - ANTIQUES, CHRISTMAS, HALL TREE, LARGE LOTS Randy's Auction Gallery Ltd. 
UID:1776763561
STREET-ADDRESS:See website
POSTAL-CODE:23322
LOCALITY:Chesapeake
REGION:ABBREV=VA
COUNTRY:ABBREV=US;ABBREV=USA:United States
URL;TYPE=Event Listing:https://estatesales.org/estate-sales/va/chesapeake/23322/50-off-sat-45-last-2369029
PRIORITY:1
CLASS:PUBLIC
SEQUENCE:0
STATUS:CONFIRMED
TRANSP:OPAQUE
END:VEVENT
END:VCALENDAR
