BEGIN:VCALENDAR
VERSION:2.0
METHOD:PUBLISH
BEGIN:VEVENT
DTSTART:20250404T160000Z
DTEND:20250406T210000Z
LOCATION:Visalia, CA 93277
TRANSP: OPAQUE
SEQUENCE:0
UID:
DTSTAMP:20260422T011420Z
SUMMARY:A Vintage Lil' Fairytale
DESCRIPTION:A Vintage Lil' Fairytale Golden Estate Sales 
UID:1776842060
STREET-ADDRESS:See website
POSTAL-CODE:93277
LOCALITY:Visalia
REGION:ABBREV=CA
COUNTRY:ABBREV=US;ABBREV=USA:United States
URL;TYPE=Event Listing:https://estatesales.org/estate-sales/ca/visalia/93277/vintage-lil-fairytale-2369915
PRIORITY:1
CLASS:PUBLIC
SEQUENCE:0
STATUS:CONFIRMED
TRANSP:OPAQUE
END:VEVENT
END:VCALENDAR
